{"text_format":"2","workbook":"xlsx","n_sheets":4,"sheets":["Day","Month","DayChart","MonthChart"],"not_rendered":{"charts":4,"images":0,"macros":0,"external_links":1,"defined_names":0,"comments":0,"pivot_tables":1},"unopened":[{"sheet":"DayChart","index":2,"reason":"not_a_worksheet"},{"sheet":"MonthChart","index":3,"reason":"not_a_worksheet"}],"bounds":{"document_bytes":16777216,"sheet_cells":100000,"run_cost":"one","rows_first":2000,"rows_last":500,"rows_between":2000,"halvings":0,"cell_chars":16384,"cell_head_chars":4096},"cells_cut":0,"cells_raw":0,"read":"whole","date_system":"1900"}

{"sheet":"Day","index":0,"n_rows":94,"n_cols":15,"rows_kept":94,"cut":false,"hidden":false,"merged":[[0,1,0,6],[0,7,0,11]]}
[null,"Dedicated Interface (Open Banking API)",{"$nulls":5},"PSU Interface"]
["Date","Uptime (%)","Downtime (%)","AISP Response(ms)","Requests","Errors","Error Rate(%)","Uptime (%)","Downtime (%)","AISP Response (ms) Web","AISP Response (ms) Mobile","BT MT Payment (ms)"]
["2024-07-01",0.99999061676034262,{"$f":"1-B3","v":9.3832396573789723E-6},390.60711231820102,319719,{"$f":"[1]Maintenance!B3 + [1]Maintenance!C3","v":3},{"$f":"F3/(F3+E3)","v":9.3831516129637622E-6},0.99934234044321235,{"$f":"1-H3","v":6.5765955678764865E-4},310.35664198103598,357.64485252463601,1941.4916465272599]
["2024-07-02",1,{"$f":"1-B4","v":0},413.20268620908502,312237,{"$f":"[1]Maintenance!B4 + [1]Maintenance!C4","v":0},{"$f":"F4/(F4+E4)","v":0},0.99930765319216597,{"$f":"1-H4","v":6.9234680783403224E-4},329.35638406233898,339.42754834445299,1918.2700597247399]
["2024-07-03",0.98402145873172731,{"$f":"1-B5","v":1.5978541268272695E-2},527.38466289302698,311668,{"$f":"[1]Maintenance!B5 + [1]Maintenance!C5","v":4980},{"$f":"F5/(F5+E5)","v":1.5727242869053335E-2},0.9752864400253618,{"$f":"1-H5","v":2.47135599746382E-2},381.14017568289199,366.79531884184502,2054.4801821555002]
["2024-07-04",0.9999937392197189,6.2607802810976665E-6,409.609480199134,319449,{"$f":"[1]Maintenance!B6 + [1]Maintenance!C6","v":2},{"$f":"F6/(F6+E6)","v":6.2607410839221039E-6},0.9992904154456751,7.0958455432490464E-4,329.91422297961401,353.47746433734602,1992.5182397220599]
["2024-07-05",1,0,498.67416484263202,325233,{"$f":"[1]Maintenance!B7 + [1]Maintenance!C7","v":0},0,0.99953367641378188,4.6632358621812031E-4,315.83768006418001,339.20617106397901,2012.42128634866]
["2024-07-06",0.99999376521676786,6.2347832321396623E-6,405.98335121350198,320781,{"$f":"[1]Maintenance!B8 + [1]Maintenance!C8","v":2},6.2347443598943832E-6,0.99958740817481451,4.125918251854932E-4,310.75271758402499,324.54647579764298,1931.33206489084]
["2024-07-07",0.99998733640214521,1.2663597854789543E-5,434.660566454074,315866,{"$f":"[1]Maintenance!B9 + [1]Maintenance!C9","v":4},1.266343749010669E-5,0.99961058362007971,3.8941637992029321E-4,311.90252237059002,326.83252442636399,1904.8751203079801]
["2024-07-08",0.99999393121026836,6.068789731639157E-6,485.077546792475,329555,{"$f":"[1]Maintenance!B10 + [1]Maintenance!C10","v":2},6.0687529016224815E-6,0.99942439093685631,5.7560906314368943E-4,382.71957610169801,396.67945552405502,2080.7367960634201]
["2024-07-09",0.99971179283061917,2.8820716938082747E-4,463.32091950451297,329624,{"$f":"[1]Maintenance!B11 + [1]Maintenance!C11","v":95},{"$f":"F11/(F11+E11)","v":2.8812412994094972E-4},0.98923868960974015,1.0761310390259848E-2,507.31124494519298,601.25849237507305,2105.5431744894299]
["2024-07-10",0.9999939013048158,6.098695184197922E-6,436.27925723414302,327939,{"$f":"[1]Maintenance!B12 + [1]Maintenance!C12","v":2},6.0986579903092323E-6,0.99905762384653063,9.4237615346937087E-4,324.90781624958697,354.11793481044401,2001.80147426286]
["2024-07-11",0.99998157146279587,1.8428537204129292E-5,481.68403145558,325582,{"$f":"[1]Maintenance!B13 + [1]Maintenance!C13","v":6},1.8428197599420127E-5,0.99901241562453014,9.8758437546986322E-4,319.03083401064703,345.56108765610497,2126.0638214565301]
["2024-07-12",1,0,490.08275277307399,326321,{"$f":"[1]Maintenance!B14 + [1]Maintenance!C14","v":0},0,0.99911290428517574,8.8709571482425975E-4,290.31846861663399,345.06516358703698,2075.62725179466]
["2024-07-13",1,0,462.29639817328803,327234,{"$f":"[1]Maintenance!B15 + [1]Maintenance!C15","v":0},0,0.99958075818450631,4.1924181549368722E-4,268.99157862579102,327.114430581075,2064.4524555903799]
["2024-07-14",0.99998747275323829,1.2527246761706579E-5,446.96668731026898,319304,{"$f":"[1]Maintenance!B16 + [1]Maintenance!C16","v":4},1.2527089831761183E-5,0.99955199911350812,4.4800088649188385E-4,214.06185438264299,331.87733528105503,1951.7160876299999]
["2024-07-15",0.99998161978691202,1.8380213087976216E-5,478.71351575216602,326438,{"$f":"[1]Maintenance!B17 + [1]Maintenance!C17","v":6},1.8379875261913221E-5,0.99943007628783687,5.6992371216313398E-4,304.197747625212,349.21451127744302,1907.2867672867601]
["2024-07-16",0.99996273847376793,3.7261526232068576E-5,469.04078131394101,322048,{"$f":"[1]Maintenance!B18 + [1]Maintenance!C18","v":12},3.726013786251009E-5,0.99846300518051223,1.5369948194877692E-3,325.310200225139,360.80953723661003,2114.4300484229798,null,null," "]
["2024-07-17",1,0,512.97095495580095,326031,{"$f":"[1]Maintenance!B19 + [1]Maintenance!C19","v":0},0,0.99875364429254621,1.2463557074537945E-3,312.30719994874897,335.24638202098498,2016.3282842994399]
["2024-07-18",0.99999385135654451,6.1486434554947067E-6,498.01835390716502,325275,{"$f":"[1]Maintenance!B20 + [1]Maintenance!C20","v":2},6.1486056499537315E-6,0.9995209055256955,4.7909447430449781E-4,310.592757562467,321.126399789267,2015.60729519046]
["2024-07-19",1,0,528.82761839342004,332822,{"$f":"[1]Maintenance!B21 + [1]Maintenance!C21","v":0},0,0.99894325518129312,1.0567448187068784E-3,307.60373524299803,325.72889379674598,2233.8260180636898]
["2024-07-20",0.99998470905927073,1.5290940729273395E-5,505.55832079286398,326991,{"$f":"[1]Maintenance!B22 + [1]Maintenance!C22","v":5},1.5290706919962324E-5,0.99968392030393405,3.1607969606595177E-4,289.04591544845499,312.07865858266501,2027.42398383112]
["2024-07-21",0.99999388119108734,6.1188089126584799E-6,459.43327057455701,326861,{"$f":"[1]Maintenance!B23 + [1]Maintenance!C23","v":2},6.1187714730636384E-6,0.99964760767195937,3.5239232804062937E-4,297.40546191909601,309.578465431241,1881.7619277108399]
["2024-07-22",0.99999410551134693,5.8944886530687413E-6,504.28469196397401,339300,{"$f":"[1]Maintenance!B24 + [1]Maintenance!C24","v":2},5.8944539083176638E-6,0.99954937148232159,4.5062851767840861E-4,311.98169528431401,336.89211919679701,1950.04397033953]
["2024-07-23",0.99998811091328987,1.1889086710126229E-5,492.10880674264303,336443,{"$f":"[1]Maintenance!B25 + [1]Maintenance!C25","v":4},1.1888945361379355E-5,0.99944259447837236,5.5740552162764079E-4,308.41721843765703,329.75070094775498,2021.6696758309299]
["2024-07-24",0.99998823352914701,1.1766470852991873E-5,547.27049075007199,339949,{"$f":"[1]Maintenance!B26 + [1]Maintenance!C26","v":4},1.1766332404773602E-5,0.99944519544383736,5.548045561626358E-4,299.36098860369702,322.49436289370499,1871.0787499999999]
["2024-07-25",0.99999421229308949,5.7877069105094492E-6,564.97260895257796,345560,{"$f":"[1]Maintenance!B27 + [1]Maintenance!C27","v":2},5.7876734131646417E-6,0.99956134130726382,4.3865869273618241E-4,317.95426038739203,316.97338028342801,1883.58368084514]
["2024-07-26",0.99997119425728709,2.8805742712911808E-5,523.51127220218495,347153,{"$f":"[1]Maintenance!B28 + [1]Maintenance!C28","v":10},2.8804912965955474E-5,0.99952556858011932,4.7443141988068316E-4,347.23095422463001,319.99711148794898,1808.5512356367001]
["2024-07-27",0.99998514385208026,1.4856147919739549E-5,487.39996275839201,336561,{"$f":"[1]Maintenance!B29 + [1]Maintenance!C29","v":5},1.4855927217841375E-5,0.99913897360147552,8.6102639852447815E-4,334.54514363588299,302.77469216080198,1937.30451825871]
["2024-07-28",0.99999405900595284,5.9409940471599754E-6,521.60632241967903,336644,{"$f":"[1]Maintenance!B30 + [1]Maintenance!C30","v":2},5.9409587519233857E-6,0.99948691462432493,5.1308537567507084E-4,330.89959780777798,296.650943489648,1836.72539098436]
["2024-07-29",1,0,602.95408321306002,343501,{"$f":"[1]Maintenance!B31 + [1]Maintenance!C31","v":0},0,0.99833056058523617,1.6694394147638292E-3,330.94969088840401,312.361748021599,1770.94796890672]
["2024-07-30",0.9999826171099786,1.7382890021400144E-5,494.772164792154,345167,{"$f":"[1]Maintenance!B32 + [1]Maintenance!C32","v":6},1.7382587861738896E-5,0.99747948634912065,2.5205136508793524E-3,346.11609140235601,317.150596369391,1960.14485190409]
["2024-07-31",0.99994367640970905,5.6323590290952019E-5,569.34149497653596,355091,{"$f":"[1]Maintenance!B33 + [1]Maintenance!C33","v":20},5.6320418122784141E-5,0.99756780449606053,2.4321955039394716E-3,379.76656615928198,375.72900749115598,1840.43597992536]
["2024-08-01",1,0,660.84526760909796,353701,{"$f":"[1]Maintenance!B34 + [1]Maintenance!C34","v":0},0,0.99898995634000476,1.0100436599952411E-3,337.70110209039302,325.52478922381101,1763.75777313506]
["2024-08-02",1,0,630.39726214604798,337782,{"$f":"[1]Maintenance!B35 + [1]Maintenance!C35","v":0},0,0.99929049390256353,7.0950609743647419E-4,331.75760921272303,324.46601753591801,1842.6686298822001]
["2024-08-03",1,0,494.811109273954,336440,{"$f":"[1]Maintenance!B36 + [1]Maintenance!C36","v":0},0,0.99966199217027096,3.3800782972903676E-4,307.22772595747199,303.22803846867902,1820.31443965517]
["2024-08-04",1,0,475.46676491708303,338267,{"$f":"[1]Maintenance!B37 + [1]Maintenance!C37","v":0},0,0.9996443953830576,3.5560461694239542E-4,307.21062672228197,303.04008910290298,1764.6281190019099]
["2024-08-05",0.99992155860153509,7.8441398464912382E-5,540.14778745791398,344206,{"$f":"[1]Maintenance!B38 + [1]Maintenance!C38","v":27},7.8435245894495877E-5,0.99960818153587683,3.9181846412317256E-4,311.315490941218,327.90029279549702,1744.65601039636]
["2024-08-06",0.9999556335091232,4.4366490876801556E-5,534.88713994349405,338093,{"$f":"[1]Maintenance!B39 + [1]Maintenance!C39","v":15},4.4364522578584359E-5,0.99902910445873228,9.7089554126772448E-4,348.95611549072697,349.03832991845002,1922.41365705614]
["2024-08-07",0.99992450967582713,7.5490324172866607E-5,465.58759111240198,344415,{"$f":"[1]Maintenance!B40 + [1]Maintenance!C40","v":26},7.5484625814000079E-5,0.99949956757686809,5.004324231319135E-4,316.76927375394098,327.48199183221601,1837.3936720413701]
["2024-08-08",0.99997396910421898,2.603089578101514E-5,490.911981937912,345743,{"$f":"[1]Maintenance!B41 + [1]Maintenance!C41","v":9},2.603021819107337E-5,0.99953894894295048,4.6105105704952187E-4,323.51642357557,331.67308229726501,1742.40544323483]
["2024-08-09",0.99997684810038667,2.3151899613327309E-5,474.73716015695902,345544,{"$f":"[1]Maintenance!B42 + [1]Maintenance!C42","v":8},2.3151363615316943E-5,0.99954973920507173,4.5026079492826998E-4,330.62866118810399,318.16012422519299,1748.4223602484401]
["2024-08-10",1,0,480.39707288422602,345215,{"$f":"[1]Maintenance!B43 + [1]Maintenance!C43","v":0},0,0.99954024032215771,4.5975967784228633E-4,320.89611182432998,306.17871908891101,1764.7273901808701]
["2024-08-11",0.99773206328877506,2.2679367112249382E-3,984.303401563134,337311,{"$f":"[1]Maintenance!B44 + [1]Maintenance!C44","v":765},2.2628048131189435E-3,0.99692671429914814,3.0732857008518577E-3,322.84843289649302,311.64893233585099,1681.73999514916]
["2024-08-12",1,0,514.31703938660996,347737,{"$f":"[1]Maintenance!B45 + [1]Maintenance!C45","v":0},0,0.99947779290610206,5.2220709389794173E-4,336.37504304244101,331.13478288395498,1744.9855269668401]
["2024-08-13",1,0,493.303720145716,355751,{"$f":"[1]Maintenance!B46 + [1]Maintenance!C46","v":0},0,0.99939561876541783,6.0438123458217419E-4,363.04641975420799,322.40488994568102,1867.50052910052]
["2024-08-14",0.99999440393515282,5.5960648471797825E-6,527.01209508027603,357394,{"$f":"[1]Maintenance!B47 + [1]Maintenance!C47","v":2},5.5960335314329203E-6,0.99950439397524826,4.9560602475173798E-4,350.62860230580799,316.69799171119303,1916.6582228638899]
["2024-08-15",0.99995838962292671,4.1610377073286742E-5,526.67724012204496,360487,{"$f":"[1]Maintenance!B48 + [1]Maintenance!C48","v":15},4.1608645721799048E-5,0.99908717890638055,9.1282109361945363E-4,363.52299515155897,348.37412666424001,1854.5612157007499]
["2024-08-16",1,0,516.721305512713,358323,{"$f":"[1]Maintenance!B49 + [1]Maintenance!C49","v":0},0,0.99954244961012173,4.5755038987826957E-4,360.38461307314702,318.38667448998302,1935.04612945077]
["2024-08-17",1,0,459.24781302256798,349846,{"$f":"[1]Maintenance!B50 + [1]Maintenance!C50","v":0},0,0.99966773777031415,3.3226222968585351E-4,330.43601425249602,297.62163363220799,1909.3156059285]
["2024-08-18",1,0,489.98880145122502,351404,{"$f":"[1]Maintenance!B51 + [1]Maintenance!C51","v":0},0,0.99907346677585662,9.2653322414337769E-4,336.56910148603998,302.62484935573599,1780.99101988454]
["2024-08-19",0.99999163525239232,8.3647476076809113E-6,485.00286225415499,358648,{"$f":"[1]Maintenance!B52 + [1]Maintenance!C52","v":3},8.3646776392649117E-6,0.99938688603350878,6.1311396649121885E-4,338.94141002602498,368.52687133824099,1718.8830323135501]
["2024-08-20",0.99997231864560665,2.7681354393349622E-5,497.79369711196102,361254,{"$f":"[1]Maintenance!B53 + [1]Maintenance!C53","v":10},2.7680588157137162E-5,0.99939877974707036,6.012202529296351E-4,345.11937230256302,319.93119517922503,1897.53439412484]
["2024-08-21",0.99997250299717333,2.749700282667078E-5,493.96917503980899,363676,{"$f":"[1]Maintenance!B54 + [1]Maintenance!C54","v":10},2.7496246762316942E-5,0.99948533196088518,5.146680391148184E-4,356.563988250894,321.20907347929602,1841.5449591280601]
["2024-08-22",0.99998660741788337,1.3392582116633633E-5,565.18159585806495,373341,{"$f":"[1]Maintenance!B55 + [1]Maintenance!C55","v":5},1.3392402757763575E-5,0.99941906612344278,5.809338765572214E-4,350.80880823060397,344.98601154419299,1911.35400444938]
["2024-08-23",0.9999944950593157,5.5049406842977433E-6,456.44579094167199,363310,{"$f":"[1]Maintenance!B56 + [1]Maintenance!C56","v":2},5.5049103800590123E-6,0.99940766663272884,5.9233336727115837E-4,371.97647565088101,385.75394805765399,1772.23903351071]
["2024-08-24",1,0,514.01762536333899,354442,{"$f":"[1]Maintenance!B57 + [1]Maintenance!C57","v":0},0,0.99964914708704178,3.5085291295822163E-4,344.23622998784799,290.72191432465598,1812.39226883373]
["2024-08-25",1,0,532.126735547458,349659,{"$f":"[1]Maintenance!B58 + [1]Maintenance!C58","v":0},0,0.99965788644151221,3.4211355848778879E-4,338.43161890419998,287.77695840174903,1779.82481751824]
["2024-08-26",0.99998877492317839,1.1225076821608226E-5,434.21118749321403,356345,{"$f":"[1]Maintenance!B59 + [1]Maintenance!C59","v":4},1.1224950820684217E-5,0.99962437153676009,3.7562846323990762E-4,334.20493989357698,302.10465570796998,1758.56981356604]
["2024-08-27",0.99994216055129259,5.7839448707408536E-5,419.60818807655698,363074,{"$f":"[1]Maintenance!B60 + [1]Maintenance!C60","v":21},5.7836103499084262E-5,0.99937386938919281,6.2613061080718513E-4,380.28871728258201,326.74621861568102,1788.50583390528]
["2024-08-28",0.99996801646086153,3.1983539138469297E-5,421.84869923154503,375193,{"$f":"[1]Maintenance!B61 + [1]Maintenance!C61","v":12},3.1982516224463959E-5,0.99934874220192427,6.5125779807573281E-4,360.58235410906099,314.646084795185,1856.80552388192]
["2024-08-29",1,0,476.46349435873901,368985,{"$f":"[1]Maintenance!B62 + [1]Maintenance!C62","v":0},0,0.99951554574371781,4.8445425628218519E-4,351.441325560054,300.97534229739102,1779.0594634689]
["2024-08-30",1,0,543.50899553191505,370000,{"$f":"[1]Maintenance!B63 + [1]Maintenance!C63","v":0},0,0.99937223187507473,6.2776812492526535E-4,377.078860450028,311.49420098108402,1916.05893006408]
["2024-08-31",0.99996695143513392,3.3048564866078323E-5,536.76520121338604,363102,{"$f":"[1]Maintenance!B64 + [1]Maintenance!C64","v":12},3.3047472694525683E-5,0.99920341052342931,7.9658947657068602E-4,360.41425113153298,296.06797057408897,1826.0208586824201]
["2024-09-01",1,0,600.64297934071806,367585,{"$f":"[1]Maintenance!B65 + [1]Maintenance!C65","v":0},0,0.99885405895276558,1.1459410472344222E-3,313.307191049702,295.19950113083502,1763.5042974215401]
["2024-09-02",0.99934007044549222,6.5992955450777657E-4,523.50329319281104,377313,{"$f":"[1]Maintenance!B66 + [1]Maintenance!C66","v":249},6.5949433470529348E-4,0.99920114352002798,7.9885647997202103E-4,358.65919493452901,329.55721627376499,1708.3649299016499]
["2024-09-03",1,0,463.66803771550002,366400,{"$f":"[1]Maintenance!B67 + [1]Maintenance!C67","v":0},0,0.99923121606399423,7.68783936005768E-4,370.59076954382499,333.32799003165701,1884.5006198859401]
["2024-09-04",0.99998920374953781,1.079625046218613E-5,483.28927830369798,370499,{"$f":"[1]Maintenance!B68 + [1]Maintenance!C68","v":4},1.0796133904448817E-5,0.99957274727116241,4.2725272883759047E-4,353.83340652241901,313.26455922269099,1938.30647773279]
["2024-09-05",0.99998389970590129,{"$f":"1-B69","v":1.6100294098708723E-5},458.03043988542402,372664,{"$f":"[1]Maintenance!B69 + [1]Maintenance!C69","v":6},1.6100034883408914E-5,0.99945303846868616,{"$f":"1-H69","v":5.4696153131383873E-4},356.13544092645799,313.16029910447401,1775.2731044349]
["2024-09-06",0.99998109533621948,1.8904663780516806E-5,454.45066747713003,370279,{"$f":"[1]Maintenance!B70 + [1]Maintenance!C70","v":7},{"$f":"F70/(F70+E70)","v":1.8904306400998148E-5},0.99898851999089089,1.0114800091091114E-3,358.47468869809001,307.078958899116,2040.64713140037]
["2024-09-07",1,0,460.71029778030999,368784,{"$f":"[1]Maintenance!B71 + [1]Maintenance!C71","v":0},0,0.99955982826086243,4.4017173913757368E-4,340.32423670636803,293.54207210795198,2017.1138975966501]
["2024-09-08",1,0,574.60948371648703,362818,{"$f":"[1]Maintenance!B72 + [1]Maintenance!C72","v":0},0,0.99966510179154089,3.3489820845911122E-4,345.99194389836902,301.87760092772902,1742.02297233942]
["2024-09-09",0.99962281009156884,3.7718990843116362E-4,505.94238763985197,373817,{"$f":"[1]Maintenance!B73 + [1]Maintenance!C73","v":141},3.77047689847523E-4,0.99575123194206183,4.2487680579381681E-3,377.43571878885001,347.89962971456498,1734.4889174054999]
["2024-09-10",0.99999203132221615,7.9686777838539058E-6,623.63715417504898,376474,{"$f":"[1]Maintenance!B74 + [1]Maintenance!C74","v":3},7.9686142845379658E-6,0.99906254625594126,9.3745374405873605E-4,348.44326363948397,313.31449352187099,1786.49276960784]
["2024-09-11",1,0,529.08088960743896,384458,{"$f":"[1]Maintenance!B75 + [1]Maintenance!C75","v":0},0,0.99925510380638927,7.4489619361073345E-4,347.06302936242599,319.695082083427,1835.7573994434599]
["2024-09-12",0.79381270341911891,0.20618729658088109,587.40185283863502,417242,{"$f":"[1]Maintenance!B76 + [1]Maintenance!C76","v":86030},0.17094135974184935,0.99691436306380998,3.0856369361900171E-3,602.71055827602697,625.99256525410101,1842.8446571473401]
["2024-09-13",0.99997913123323978,2.0868766760218094E-5,573.15366839225896,383348,{"$f":"[1]Maintenance!B77 + [1]Maintenance!C77","v":8},2.0868331263890482E-5,0.99945500000901244,5.4499999098756025E-4,365.22644453579198,301.71120207963099,1785.5900155199099]
["2024-09-14",0.99997943635036346,2.0563649636540227E-5,447.47549500987998,389036,{"$f":"[1]Maintenance!B78 + [1]Maintenance!C78","v":8},2.0563226781546561E-5,0.99963062290495697,3.6937709504303307E-4,344.37168953658102,289.18993071382999,1837.9918098282001]
["2024-09-15",0.9999948028864768,5.1971135232031784E-6,511.66872031489402,384829,{"$f":"[1]Maintenance!B79 + [1]Maintenance!C79","v":2},5.1970865133006436E-6,0.99962600800224821,3.7399199775178804E-4,337.69623326743999,290.37688633007099,1720.98084677419]
["2024-09-16",1,0,575.26647421825498,388762,{"$f":"[1]Maintenance!B80 + [1]Maintenance!C80","v":0},0,0.9991079752824733,8.9202471752669599E-4,362.93755563764199,322.93680084251599,1821.54338173526]
["2024-09-17",0.99996594763794477,3.4052362055225771E-5,539.25688520974802,381765,{"$f":"[1]Maintenance!B81 + [1]Maintenance!C81","v":13},3.4051202531314009E-5,0.99938594042716933,6.1405957283067192E-4,363.48289084917201,323.76097631482298,1957.55556973331]
["2024-09-18",1,0,481.826516221394,381120,{"$f":"[1]Maintenance!B82 + [1]Maintenance!C82","v":0},0,0.99942272592787718,5.7727407212282422E-4,359.75491400014999,314.97672942414601,1897.81477953184]
["2024-09-19",0.99999739037622948,2.6096237705219849E-6,594.24465588638702,383197,{"$f":"[1]Maintenance!B83 + [1]Maintenance!C83","v":1},2.6096169604225492E-6,0.99940325819175502,5.9674180824498269E-4,358.367861378398,307.13467728531703,1893.80557868442]
["2024-09-20",0.99998442371644936,1.5576283550644554E-5,479.02080094576098,385201,{"$f":"[1]Maintenance!B84 + [1]Maintenance!C84","v":6},1.5576040933835573E-5,0.99870484539100168,1.2951546089983168E-3,374.94955400675502,308.24658212893002,1949.1180602458401]
["2024-09-21",0.99999468432886995,5.3156711300461623E-6,475.63597973833299,376246,{"$f":"[1]Maintenance!B85 + [1]Maintenance!C85","v":2},5.3156428738491636E-6,0.99958294433187411,4.1705566812588746E-4,334.46360783746201,282.24435291980899,1884.2942464662499]
["2024-09-22",1,0,493.445668250648,379361,{"$f":"[1]Maintenance!B86 + [1]Maintenance!C86","v":0},0,0.9993145692666392,6.854307333608034E-4,326.07961065459199,289.25566343844997,1772.2643143883299]
["2024-09-23",0.99997131345268675,2.8686547313250266E-5,527.48462707375597,383455,{"$f":"[1]Maintenance!B87 + [1]Maintenance!C87","v":11},2.8685724418853301E-5,0.99716807275916741,2.831927240832588E-3,362.354694220542,318.64279284312101,1740.3101401692099]
["2024-09-24",1,0,511.99803989621802,387593,{"$f":"[1]Maintenance!B88 + [1]Maintenance!C88","v":0},0,0.99939433343321493,6.0566656678506803E-4,351.92367602070999,307.84200954604103,1873.8457906098199]
["2024-09-25",0.99998724271750528,1.2757282494724187E-5,584.77968408336801,391933,{"$f":"[1]Maintenance!B89 + [1]Maintenance!C89","v":5},1.2757119748531656E-5,0.99885811073116404,1.1418892688359605E-3,399.44864415289402,318.65270599018402,1769.83951581413]
["2024-09-26",0.99996328168290061,3.6718317099393438E-5,518.25369752802101,299578,{"$f":"[1]Maintenance!B90 + [1]Maintenance!C90","v":11},3.6716968914078953E-5,0.99944501966901134,5.5498033098866362E-4,330.55627190143798,310.54119628253397,1989.6928502281801]
["2024-09-27",1,0,477.43834152404997,292506,{"$f":"[1]Maintenance!B91 + [1]Maintenance!C91","v":0},0,0.998688145463833,1.3118545361670009E-3,381.42123066151999,307.99975278912802,1975.5150865150799]
["2024-09-28",0.99997842766436318,2.1572335636821371E-5,415.18219599214802,278134,{"$f":"[1]Maintenance!B92 + [1]Maintenance!C92","v":6},2.1571870281153377E-5,0.99965996395259338,3.4003604740662219E-4,329.27745094263298,283.87472731607801,1912.25744594043]
["2024-09-29",1,0,378.18636425171297,288949,{"$f":"[1]Maintenance!B93 + [1]Maintenance!C93","v":0},0,0.99947771700758103,5.2228299241896536E-4,333.11171165309702,287.47034881212198,1792.8310729956099]
["2024-09-30",0.9999932782372849,6.7217627151006099E-6,414.585365172889,297541,{"$f":"[1]Maintenance!B94 + [1]Maintenance!C94","v":2},6.7217175332640993E-6,0.99916492764132858,8.3507235867141816E-4,377.98516142512398,341.66891622588702,1741.0440688198]

{"sheet":"Month","index":1,"n_rows":6,"n_cols":12,"rows_kept":6,"cut":false,"hidden":false,"merged":[[0,1,0,6],[0,7,0,11]]}
[null,"Dedicated Interface (Open Banking API)",{"$nulls":5},"PSU Interface"]
["Row Labels","Average of Uptime (%)","Average of Downtime (%)","Average of AISP Response(ms)","Average of Requests","Average of Errors","Average of Error Rate(%)","Average of Uptime (%)2","Average of Downtime (%)2","Average of AISP Response (ms) Web","Average of AISP Response (ms) Mobile","Average of BT MT Payment (ms)"]
["Jul",0.9994649593110293,5.3504068897086883E-4,487.31013973658656,329753.12903225806,167.16129032258064,5.2693135738837314E-4,0.9980937911067046,1.9062088932952162E-3,324.2028045954961,343.68263760091281,1975.4348389806819]
["Aug",0.99991034963163827,8.9650368361823382E-5,520.538832314361,353828.6451612903,30.516129032258064,8.9484043141965978E-5,0.9730360380558829,2.6963961944117099E-2,394.57642919014216,320.53309034851958,1816.1606023653057]
["Sep",0.99284544469369251,7.1545553063074438E-3,512.04429573137531,367701.58620689658,2983.2068965517242,5.9391580581757341E-3,0.99902876386688644,9.7123613311360423E-4,361.66874081390904,319.26783804582459,1849.8126786033588]
["Grand Total",0.99750717003670086,2.4928299632992236E-3,506.51211768999201,350048.14285714284,1018.032967032967,2.102686385753152E-3,0.98985559182615268,1.0144408173846993E-2,360.11593110943033,328.01598757979474,1881.1431468266267]